BEGIN:VCALENDAR
VERSION:2.0
PRODID:icalendar-ruby
CALSCALE:GREGORIAN
METHOD:PUBLISH
BEGIN:VEVENT
DTSTAMP:20260425T144435Z
UID:36-353746@chippawa.church
DTSTART:20260425T160000Z
DTEND:20260531T160000Z
CLASS:PUBLIC
CREATED:20260424T231937
DESCRIPTION:The W.O.C will be collecting diapers and formulas for Project S
 hare until the end of May.   Cash donations will be accepted.  Candy F.
  will be collecting all cash donations.
LAST-MODIFIED:20260424T231937
LOCATION:CPC - 8280 Willoughby Drive\, Niagara Falls\, ON
SUMMARY:W.O.C Collecting Baby Supplies
URL;VALUE=URI:https://www.chippawa.church/events/w-o-c-collecting-baby-supp
 lies/2026-04-25
END:VEVENT
END:VCALENDAR
